BEGIN:VCALENDAR
VERSION:2.0
PRODID:-//jEvents 2.0 for Joomla//EN
CALSCALE:GREGORIAN
METHOD:PUBLISH
BEGIN:VEVENT
UID:6c283144f52ffb118ec9bb8d9cbc10ff
CATEGORIES:Efemérides
CREATED:19691231T200000
SUMMARY:Día Mundial de la Educación Ambiental
DESCRIPTION: \n26 de enero: Día Mundial de la Educación Ambiental\nEl Día Mundial de la
  Educación Ambiental se cekebra anualmente el 26 de enero paara «despertar 
 la conciencia de las personas sobre los problemas ambientales, lo que les p
 ermite ser identificados tanto a nivel mundial como local.\nDe igual forma,
  a través la educación ambiental se busca identificar las relaciones de int
 eracción e independencia que se dan entre el entorno y el hombre, así como 
 también se preocupa por promover una relación armónica entre el medio natur
 al y las actividades humanas a través del desarrollo sostenible, con el fin
  de garantizar el sostenimiento y calidad de las generaciones actuales y fu
 turas.\nGenerando además una conciencia y soluciones pertinentes a los prob
 lemas ambientales actuales causados por actividades humanas y los efectos d
 e la relación entre el hombre y el medio ambiente, es un mecanismo pedagógi
 co que además infunde la interacción que existe dentro de los ecosistemas.\
 nPublicado por AiSUR\n
X-ALT-DESC;FMTTYPE=text/html:<p>&nbsp;</p><p>26 de enero: Día Mundial de la Educación Ambiental</p><p>El
  Día Mundial de la Educación Ambiental se cekebra anualmente el 26 de enero
  paara «despertar la conciencia de las personas sobre los problemas ambient
 ales, lo que les permite ser identificados tanto a nivel mundial como local
 .</p><hr id="system-readmore" /><p>De igual forma, a través la educación am
 biental se busca identificar las relaciones de interacción e independencia 
 que se dan entre el entorno y el hombre, así como también se preocupa por p
 romover una relación armónica entre el medio natural y las actividades huma
 nas a través del desarrollo sostenible, con el fin de garantizar el sosteni
 miento y calidad de las generaciones actuales y futuras.</p><p>Generando ad
 emás una conciencia y soluciones pertinentes a los problemas ambientales ac
 tuales causados por actividades humanas y los efectos de la relación entre 
 el hombre y el medio ambiente, es un mecanismo pedagógico que además infund
 e la interacción que existe dentro de los ecosistemas.</p><p>Publicado por 
 AiSUR</p>
DTSTAMP:20260420T145241
DTSTART;TZID=America/Caracas;VALUE=DATE:20220126
DTEND;TZID=America/Caracas;VALUE=DATE:20220127
SEQUENCE:0
RRULE:FREQ=YEARLY;UNTIL=20250126T000000Z;INTERVAL=1;BYYEARDAY=+26
TRANSP:OPAQUE
END:VEVENT
END:VCALENDAR