BEGIN:VCALENDAR
VERSION:2.0
PRODID:-//jEvents 2.0 for Joomla//EN
CALSCALE:GREGORIAN
METHOD:PUBLISH
BEGIN:VEVENT
UID:6c283144f52ffb118ec9bb8d9cbc10ff
CATEGORIES:Efemérides
CREATED:20220125T223308
SUMMARY:Día Mundial de la Educación Ambiental
DESCRIPTION: \n  26 de enero: Día Mundial de la Educación Ambiental\n  El Día Mundial d
 e la Educación Ambiental se cekebra anualmente el 26 de enero paara «desper
 tar la conciencia de las personas sobre los problemas ambientales, lo que l
 es permite ser identificados tanto a nivel mundial como local.\n    De igua
 l forma, a través la educación ambiental se busca identificar las relacione
 s de interacción e independencia que se dan entre el entorno y el hombre, a
 sí como también se preocupa por promover una relación armónica entre el med
 io natural y las actividades humanas a través del desarrollo sostenible, co
 n el fin de garantizar el sostenimiento y calidad de las generaciones actua
 les y futuras.\n  Generando además una conciencia y soluciones pertinentes 
 a los problemas ambientales actuales causados por actividades humanas y los
  efectos de la relación entre el hombre y el medio ambiente, es un mecanism
 o pedagógico que además infunde la interacción que existe dentro de los eco
 sistemas.\n  Publicado por AiSUR\n
X-ALT-DESC;FMTTYPE=text/html:<p>&nbsp;</p>  <p>26 de enero: Día Mundial de la Educación Ambiental</p>  <
 p>El Día Mundial de la Educación Ambiental se cekebra anualmente el 26 de e
 nero paara «despertar la conciencia de las personas sobre los problemas amb
 ientales, lo que les permite ser identificados tanto a nivel mundial como l
 ocal.</p>  <hr id="system-readmore" />  <p>De igual forma, a través la educ
 ación ambiental se busca identificar las relaciones de interacción e indepe
 ndencia que se dan entre el entorno y el hombre, así como también se preocu
 pa por promover una relación armónica entre el medio natural y las activida
 des humanas a través del desarrollo sostenible, con el fin de garantizar el
  sostenimiento y calidad de las generaciones actuales y futuras.</p>  <p>Ge
 nerando además una conciencia y soluciones pertinentes a los problemas ambi
 entales actuales causados por actividades humanas y los efectos de la relac
 ión entre el hombre y el medio ambiente, es un mecanismo pedagógico que ade
 más infunde la interacción que existe dentro de los ecosistemas.</p>  <p>Pu
 blicado por AiSUR</p>
DTSTAMP:20260421T151459
DTSTART;TZID=America/Caracas;VALUE=DATE:20240126
DTEND;TZID=America/Caracas;VALUE=DATE:20240127
SEQUENCE:0
TRANSP:OPAQUE
END:VEVENT
END:VCALENDAR